BEGIN:VCALENDAR
VERSION:2.0
PRODID:-//Crous Nice-Toulon - ECPv6.15.20//NONSGML v1.0//EN
CALSCALE:GREGORIAN
METHOD:PUBLISH
X-WR-CALNAME:Crous Nice-Toulon
X-ORIGINAL-URL:https://www.crous-nice.fr
X-WR-CALDESC:Évènements pour Crous Nice-Toulon
REFRESH-INTERVAL;VALUE=DURATION:PT1H
X-Robots-Tag:noindex
X-PUBLISHED-TTL:PT1H
BEGIN:VTIMEZONE
TZID:Europe/Paris
BEGIN:DAYLIGHT
TZOFFSETFROM:+0100
TZOFFSETTO:+0200
TZNAME:CEST
DTSTART:20240331T010000
END:DAYLIGHT
BEGIN:STANDARD
TZOFFSETFROM:+0200
TZOFFSETTO:+0100
TZNAME:CET
DTSTART:20241027T010000
END:STANDARD
BEGIN:DAYLIGHT
TZOFFSETFROM:+0100
TZOFFSETTO:+0200
TZNAME:CEST
DTSTART:20250330T010000
END:DAYLIGHT
BEGIN:STANDARD
TZOFFSETFROM:+0200
TZOFFSETTO:+0100
TZNAME:CET
DTSTART:20251026T010000
END:STANDARD
BEGIN:DAYLIGHT
TZOFFSETFROM:+0100
TZOFFSETTO:+0200
TZNAME:CEST
DTSTART:20260329T010000
END:DAYLIGHT
BEGIN:STANDARD
TZOFFSETFROM:+0200
TZOFFSETTO:+0100
TZNAME:CET
DTSTART:20261025T010000
END:STANDARD
END:VTIMEZONE
BEGIN:VEVENT
DTSTART;TZID=Europe/Paris:20250205T183000
DTEND;TZID=Europe/Paris:20250205T203000
DTSTAMP:20260421T105407
CREATED:20240830T140229Z
LAST-MODIFIED:20240910T102803Z
UID:10000451-1738780200-1738787400@www.crous-nice.fr
SUMMARY:Atelier art plastique - Résidence Le Coudon
DESCRIPTION:Pour se vider la tête ou pour décorer son appart’\, venez participer à l’atelier d’art plastique proposé par Océane Fillion\nGratuit et ouvert à tous les étudiants logés en résidences étudiantes du campus de La Garde
URL:https://www.crous-nice.fr/evenement/atelier-art-plastique-residence-le-coudon-2/2025-02-05/
LOCATION:Résidence étudiante Coudon\, 657 avenue du 1er BIMP\, La Garde\, 83130\, France
CATEGORIES:Animation,Arts
END:VEVENT
END:VCALENDAR